BEGIN:VCALENDAR
VERSION:2.0
PRODID:icalendar-ruby
CALSCALE:GREGORIAN
BEGIN:VEVENT
DTSTAMP:20260422T093616Z
UID:9ca95d4c-300e-4f69-a29f-761d58448918
DTSTART;TZID=Pacific/Auckland:20260425T150000
DTEND;TZID=Pacific/Auckland:20260425T153000
DESCRIPTION:Property ID# 1007681
SUMMARY:Openhome for 8 Prospectors Way
END:VEVENT
END:VCALENDAR
